BEGIN:VCALENDAR
PRODID:-//Pixl8//Eventfolio//EN
VERSION:2.0
X-WR-TIMEZONE:Europe/London
CALSCALE:GREGORIAN
METHOD:PUBLISH
CLASS:PUBLIC
BEGIN:VTIMEZONE
TZID:Europe/London
LAST-MODIFIED:20260306T231828Z
TZURL:https://www.tzurl.org/zoneinfo-outlook/Europe/London
X-LIC-LOCATION:Europe/London
BEGIN:DAYLIGHT
TZNAME:BST
TZOFFSETFROM:+0000
TZOFFSETTO:+0100
DTSTART:19700329T010000
RRULE:FREQ=YEARLY;BYMONTH=3;BYDAY=-1SU
END:DAYLIGHT
BEGIN:STANDARD
TZNAME:GMT
TZOFFSETFROM:+0100
TZOFFSETTO:+0000
DTSTART:19701025T020000
RRULE:FREQ=YEARLY;BYMONTH=10;BYDAY=-1SU
END:STANDARD
END:VTIMEZONE
BEGIN:VEVENT
DTSTART;TZID=Europe/London:20250402T140000
DTEND;TZID=Europe/London:20250402T150000
DTSTAMP:20260421T070724Z
UID:{37022CA0-C3AF-4EC0-9AD26B8A8A088649}
LOCATION:
SUMMARY:Adapting to the Procurement Act 2023: What does its adoption mean for the built environment sectors? 
DESCRIPTION:The February 2025 implementation of the Procurement Act 2023 has marked a transformative moment for procurement practices across the UK.\n
 \n
 Event details: https://www.nfrc.co.uk/events/ems-event-calendar/adapting-to-the-procurement-act-2023.html
PRIORITY:1
END:VEVENT
END:VCALENDAR