BEGIN:VCALENDAR
PRODID:-//Pixl8//Eventfolio//EN
VERSION:2.0
X-WR-TIMEZONE:Europe/London
CALSCALE:GREGORIAN
METHOD:PUBLISH
CLASS:PUBLIC
BEGIN:VTIMEZONE
TZID:Europe/London
LAST-MODIFIED:20260306T231828Z
TZURL:https://www.tzurl.org/zoneinfo-outlook/Europe/London
X-LIC-LOCATION:Europe/London
BEGIN:DAYLIGHT
TZNAME:BST
TZOFFSETFROM:+0000
TZOFFSETTO:+0100
DTSTART:19700329T010000
RRULE:FREQ=YEARLY;BYMONTH=3;BYDAY=-1SU
END:DAYLIGHT
BEGIN:STANDARD
TZNAME:GMT
TZOFFSETFROM:+0100
TZOFFSETTO:+0000
DTSTART:19701025T020000
RRULE:FREQ=YEARLY;BYMONTH=10;BYDAY=-1SU
END:STANDARD
END:VTIMEZONE
BEGIN:VEVENT
DTSTART;TZID=Europe/London:20250730T110000
DTEND;TZID=Europe/London:20250730T120000
DTSTAMP:20260425T190739Z
UID:{7898116C-885A-4A7C-92FF391E2BE8E42F}
LOCATION:
SUMMARY:Construction Industry Forecasts - Summer 2025 Edition
DESCRIPTION:The webinar will cover the UK economy this year, the latest construction data, and the new construction forecasts for the key sectors, as well as highlighting key risks to the economy. Hosted by CPA Economics Director Professor Noble Francis\n
 \n
 Event details: https://www.nfrc.co.uk/events/ems-event-calendar/construction-industry-forecasts-summer-2025-edition.html
PRIORITY:1
END:VEVENT
END:VCALENDAR