BEGIN:VCALENDAR
PRODID:-//Pixl8//Eventfolio//EN
VERSION:2.0
X-WR-TIMEZONE:Europe/London
CALSCALE:GREGORIAN
METHOD:PUBLISH
CLASS:PUBLIC
BEGIN:VTIMEZONE
TZID:Europe/London
LAST-MODIFIED:20260306T231828Z
TZURL:https://www.tzurl.org/zoneinfo-outlook/Europe/London
X-LIC-LOCATION:Europe/London
BEGIN:DAYLIGHT
TZNAME:BST
TZOFFSETFROM:+0000
TZOFFSETTO:+0100
DTSTART:19700329T010000
RRULE:FREQ=YEARLY;BYMONTH=3;BYDAY=-1SU
END:DAYLIGHT
BEGIN:STANDARD
TZNAME:GMT
TZOFFSETFROM:+0100
TZOFFSETTO:+0000
DTSTART:19701025T020000
RRULE:FREQ=YEARLY;BYMONTH=10;BYDAY=-1SU
END:STANDARD
END:VTIMEZONE
BEGIN:VEVENT
DTSTART;TZID=Europe/London;VALUE=DATE:20250918
DTEND;TZID=Europe/London;VALUE=DATE:20250919
DTSTAMP:20260423T122215Z
UID:{47EAFC9A-65E6-4456-AC22BCD57CD92D4B}
LOCATION:L&SC
SUMMARY:E.J. Churchill Shooting Range
DESCRIPTION:Compete in teams of five at the award-winning E. J. Churchill Shooting Range, Buckinghamshire. Suitable for all abilities!\n
 \n
 Event details: https://www.nfrc.co.uk/events/ems-event-calendar/e-j-churchill-shooting-range-save-the-date.html
PRIORITY:1
END:VEVENT
END:VCALENDAR