BEGIN:VCALENDAR
PRODID:-//Pixl8//Eventfolio//EN
VERSION:2.0
X-WR-TIMEZONE:Europe/London
CALSCALE:GREGORIAN
METHOD:PUBLISH
CLASS:PUBLIC
BEGIN:VTIMEZONE
TZID:Europe/London
LAST-MODIFIED:20260306T231828Z
TZURL:https://www.tzurl.org/zoneinfo-outlook/Europe/London
X-LIC-LOCATION:Europe/London
BEGIN:DAYLIGHT
TZNAME:BST
TZOFFSETFROM:+0000
TZOFFSETTO:+0100
DTSTART:19700329T010000
RRULE:FREQ=YEARLY;BYMONTH=3;BYDAY=-1SU
END:DAYLIGHT
BEGIN:STANDARD
TZNAME:GMT
TZOFFSETFROM:+0100
TZOFFSETTO:+0000
DTSTART:19701025T020000
RRULE:FREQ=YEARLY;BYMONTH=10;BYDAY=-1SU
END:STANDARD
END:VTIMEZONE
BEGIN:VEVENT
DTSTART;TZID=Europe/London:20250807T100000
DTEND;TZID=Europe/London:20250807T000000
DTSTAMP:20260423T110629Z
UID:{950463A4-8C0A-4D39-9B0BB6E1D27E2E88}
LOCATION:L&SC
SUMMARY:East Sussex Council–Roofing Roundtable
DESCRIPTION:East Sussex College invite you to help shape the future of roofing apprenticeships at this roofing industry roundtable.\n
 \n
 Event details: https://www.nfrc.co.uk/events/ems-event-calendar/east-sussex-council-roofing-roundtable.html
PRIORITY:1
END:VEVENT
END:VCALENDAR