BEGIN:VCALENDAR
PRODID:-//Pixl8//Eventfolio//EN
VERSION:2.0
X-WR-TIMEZONE:Europe/London
CALSCALE:GREGORIAN
METHOD:PUBLISH
CLASS:PUBLIC
BEGIN:VTIMEZONE
TZID:Europe/London
LAST-MODIFIED:20260306T231828Z
TZURL:https://www.tzurl.org/zoneinfo-outlook/Europe/London
X-LIC-LOCATION:Europe/London
BEGIN:DAYLIGHT
TZNAME:BST
TZOFFSETFROM:+0000
TZOFFSETTO:+0100
DTSTART:19700329T010000
RRULE:FREQ=YEARLY;BYMONTH=3;BYDAY=-1SU
END:DAYLIGHT
BEGIN:STANDARD
TZNAME:GMT
TZOFFSETFROM:+0100
TZOFFSETTO:+0000
DTSTART:19701025T020000
RRULE:FREQ=YEARLY;BYMONTH=10;BYDAY=-1SU
END:STANDARD
END:VTIMEZONE
BEGIN:VEVENT
DTSTART;TZID=Europe/London:20250624T103000
DTEND;TZID=Europe/London:20250626T170000
DTSTAMP:20260423T193644Z
UID:{DF6BDB96-B311-48B7-99247667A70ECE37}
LOCATION:
SUMMARY:InstallerSHOW 2025–Where to find NFRC
DESCRIPTION:Bob Richardson, Head of Technical and Training at NFRC will join two panels at The Building Safety Forum on Tuesday 24 June.\n
 \n
 Event details: https://www.nfrc.co.uk/events/ems-event-calendar/installershow-2025-where-to-find-nfrc.html
PRIORITY:1
END:VEVENT
END:VCALENDAR