BEGIN:VCALENDAR
PRODID:-//Pixl8//Eventfolio//EN
VERSION:2.0
X-WR-TIMEZONE:Europe/London
CALSCALE:GREGORIAN
METHOD:PUBLISH
CLASS:PUBLIC
BEGIN:VTIMEZONE
TZID:Europe/London
LAST-MODIFIED:20260306T231828Z
TZURL:https://www.tzurl.org/zoneinfo-outlook/Europe/London
X-LIC-LOCATION:Europe/London
BEGIN:DAYLIGHT
TZNAME:BST
TZOFFSETFROM:+0000
TZOFFSETTO:+0100
DTSTART:19700329T010000
RRULE:FREQ=YEARLY;BYMONTH=3;BYDAY=-1SU
END:DAYLIGHT
BEGIN:STANDARD
TZNAME:GMT
TZOFFSETFROM:+0100
TZOFFSETTO:+0000
DTSTART:19701025T020000
RRULE:FREQ=YEARLY;BYMONTH=10;BYDAY=-1SU
END:STANDARD
END:VTIMEZONE
BEGIN:VEVENT
DTSTART;TZID=Europe/London:20250604T100000
DTEND;TZID=Europe/London:20250604T140000
DTSTAMP:20260423T174955Z
UID:{14B26277-3F25-4DAF-B58B0FAC7602B89C}
LOCATION:L&SC
SUMMARY:L&SC: Building Safety Act Awareness Workshop
DESCRIPTION:London and Southern Counties Members are invited to attend a workshop, presented by Cube Construction Consultants, covering the Building Safety Act.\n
 \n
 Event details: https://www.nfrc.co.uk/events/ems-event-calendar/l-sc-building-safety-act-awareness-workshop.html
PRIORITY:1
END:VEVENT
END:VCALENDAR