BEGIN:VCALENDAR
PRODID:-//Pixl8//Eventfolio//EN
VERSION:2.0
X-WR-TIMEZONE:Europe/London
CALSCALE:GREGORIAN
METHOD:PUBLISH
CLASS:PUBLIC
BEGIN:VTIMEZONE
TZID:Europe/London
LAST-MODIFIED:20260306T231828Z
TZURL:https://www.tzurl.org/zoneinfo-outlook/Europe/London
X-LIC-LOCATION:Europe/London
BEGIN:DAYLIGHT
TZNAME:BST
TZOFFSETFROM:+0000
TZOFFSETTO:+0100
DTSTART:19700329T010000
RRULE:FREQ=YEARLY;BYMONTH=3;BYDAY=-1SU
END:DAYLIGHT
BEGIN:STANDARD
TZNAME:GMT
TZOFFSETFROM:+0100
TZOFFSETTO:+0000
DTSTART:19701025T020000
RRULE:FREQ=YEARLY;BYMONTH=10;BYDAY=-1SU
END:STANDARD
END:VTIMEZONE
BEGIN:VEVENT
DTSTART;TZID=Europe/London;VALUE=DATE:20260601
DTEND;TZID=Europe/London;VALUE=DATE:20260602
DTSTAMP:20260425T125542Z
UID:{42C96CB2-2E84-4A90-A4C0BD22B7046B69}
LOCATION:L&SC
SUMMARY:L&SC Member Social: Royal Windsor Races
DESCRIPTION:NFRC invites members to Royal Windsor Races for the return of our annual regional race event.\n
 \n
 Event details: https://www.nfrc.co.uk/events/ems-event-calendar/l-sc-member-social-royal-windsor-races.html
PRIORITY:1
END:VEVENT
END:VCALENDAR