BEGIN:VCALENDAR
PRODID:-//Pixl8//Eventfolio//EN
VERSION:2.0
X-WR-TIMEZONE:Europe/London
CALSCALE:GREGORIAN
METHOD:PUBLISH
CLASS:PUBLIC
BEGIN:VTIMEZONE
TZID:Europe/London
LAST-MODIFIED:20260306T231828Z
TZURL:https://www.tzurl.org/zoneinfo-outlook/Europe/London
X-LIC-LOCATION:Europe/London
BEGIN:DAYLIGHT
TZNAME:BST
TZOFFSETFROM:+0000
TZOFFSETTO:+0100
DTSTART:19700329T010000
RRULE:FREQ=YEARLY;BYMONTH=3;BYDAY=-1SU
END:DAYLIGHT
BEGIN:STANDARD
TZNAME:GMT
TZOFFSETFROM:+0100
TZOFFSETTO:+0000
DTSTART:19701025T020000
RRULE:FREQ=YEARLY;BYMONTH=10;BYDAY=-1SU
END:STANDARD
END:VTIMEZONE
BEGIN:VEVENT
DTSTART;TZID=Europe/London:20241104T090000
DTEND;TZID=Europe/London:20241104T170000
DTSTAMP:20260422T173555Z
UID:{461E4C8F-B843-49F5-8AE81934995B898D}
LOCATION:Kempton Park Racecourse
SUMMARY:L&SC Members Day
DESCRIPTION:We'd like to invite you to the annual LSC Members Day, which will return to Kempton Park Racecourse on Monday 4 November. Tickets are priced at £150 +VAT with table bookings available. Contact lscadmin@nfrc.co.uk for details\n
 \n
 Event details: https://www.nfrc.co.uk/events/ems-event-calendar/lsc-members-day.html
PRIORITY:1
END:VEVENT
END:VCALENDAR