BEGIN:VCALENDAR
PRODID:-//Pixl8//Eventfolio//EN
VERSION:2.0
X-WR-TIMEZONE:Europe/London
CALSCALE:GREGORIAN
METHOD:PUBLISH
CLASS:PUBLIC
BEGIN:VTIMEZONE
TZID:Europe/London
LAST-MODIFIED:20260306T231828Z
TZURL:https://www.tzurl.org/zoneinfo-outlook/Europe/London
X-LIC-LOCATION:Europe/London
BEGIN:DAYLIGHT
TZNAME:BST
TZOFFSETFROM:+0000
TZOFFSETTO:+0100
DTSTART:19700329T010000
RRULE:FREQ=YEARLY;BYMONTH=3;BYDAY=-1SU
END:DAYLIGHT
BEGIN:STANDARD
TZNAME:GMT
TZOFFSETFROM:+0100
TZOFFSETTO:+0000
DTSTART:19701025T020000
RRULE:FREQ=YEARLY;BYMONTH=10;BYDAY=-1SU
END:STANDARD
END:VTIMEZONE
BEGIN:VEVENT
DTSTART;TZID=Europe/London:20241126T080000
DTEND;TZID=Europe/London:20241126T160000
DTSTAMP:20260420T113059Z
UID:{9A5ECFF8-5581-4B5C-802318897C3E0102}
LOCATION:Hilton Hotel–East Midlands Airport
SUMMARY:Midlands Region - The Cycle of Business Success
DESCRIPTION:An NFRC Members event dedicated to provide an insight into strategies for increasing profits, improving teams and reducing the hours worked.\n
 \n
 Event details: https://www.nfrc.co.uk/events/ems-event-calendar/midlands-region-the-cycle-of-business-success.html
PRIORITY:1
END:VEVENT
END:VCALENDAR