BEGIN:VCALENDAR
PRODID:-//Pixl8//Eventfolio//EN
VERSION:2.0
X-WR-TIMEZONE:Europe/London
CALSCALE:GREGORIAN
METHOD:PUBLISH
CLASS:PUBLIC
BEGIN:VTIMEZONE
TZID:Europe/London
LAST-MODIFIED:20260306T231828Z
TZURL:https://www.tzurl.org/zoneinfo-outlook/Europe/London
X-LIC-LOCATION:Europe/London
BEGIN:DAYLIGHT
TZNAME:BST
TZOFFSETFROM:+0000
TZOFFSETTO:+0100
DTSTART:19700329T010000
RRULE:FREQ=YEARLY;BYMONTH=3;BYDAY=-1SU
END:DAYLIGHT
BEGIN:STANDARD
TZNAME:GMT
TZOFFSETFROM:+0100
TZOFFSETTO:+0000
DTSTART:19701025T020000
RRULE:FREQ=YEARLY;BYMONTH=10;BYDAY=-1SU
END:STANDARD
END:VTIMEZONE
BEGIN:VEVENT
DTSTART;TZID=Europe/London:20250320T083000
DTEND;TZID=Europe/London:20250320T160000
DTSTAMP:20260426T024943Z
UID:{AC303BB7-624E-4AC9-8E6BD9A04D406498}
LOCATION:Midlands
SUMMARY:NFRC Midlands 'Cycle of Success' Seminar with REACH
DESCRIPTION:NFRC Midlands will kickstart their 2025 event calendar on 20 March 2025 with a valuable opportunity to learn from expert business coaches at a seminar that will focus on business development, providing great tips and advice to help your business thrive and grow.\n
 \n
 Event details: https://www.nfrc.co.uk/events/ems-event-calendar/nfrc-midlands-cycle-of-success-seminar-with-reach.html
PRIORITY:1
END:VEVENT
END:VCALENDAR