BEGIN:VCALENDAR
PRODID:-//Pixl8//Eventfolio//EN
VERSION:2.0
X-WR-TIMEZONE:Europe/London
CALSCALE:GREGORIAN
METHOD:PUBLISH
CLASS:PUBLIC
BEGIN:VTIMEZONE
TZID:Europe/London
LAST-MODIFIED:20260306T231828Z
TZURL:https://www.tzurl.org/zoneinfo-outlook/Europe/London
X-LIC-LOCATION:Europe/London
BEGIN:DAYLIGHT
TZNAME:BST
TZOFFSETFROM:+0000
TZOFFSETTO:+0100
DTSTART:19700329T010000
RRULE:FREQ=YEARLY;BYMONTH=3;BYDAY=-1SU
END:DAYLIGHT
BEGIN:STANDARD
TZNAME:GMT
TZOFFSETFROM:+0100
TZOFFSETTO:+0000
DTSTART:19701025T020000
RRULE:FREQ=YEARLY;BYMONTH=10;BYDAY=-1SU
END:STANDARD
END:VTIMEZONE
BEGIN:VEVENT
DTSTART;TZID=Europe/London:20250430T103000
DTEND;TZID=Europe/London:20250430T200000
DTSTAMP:20260425T181121Z
UID:{D9DB8CCD-3BCE-4E29-B535C39CE8B88BB7}
LOCATION:Midlands
SUMMARY:NFRC Midlands Golf Day–SOLD OUT
DESCRIPTION:Regional golf day at Notts Golf & Country Club, Cotgrave with 18 holes of golf and an evening meal.\n
 \n
 Event details: https://www.nfrc.co.uk/events/ems-event-calendar/nfrc-midlands-golf-day.html
PRIORITY:1
END:VEVENT
END:VCALENDAR