BEGIN:VCALENDAR
PRODID:-//Pixl8//Eventfolio//EN
VERSION:2.0
X-WR-TIMEZONE:Europe/London
CALSCALE:GREGORIAN
METHOD:PUBLISH
CLASS:PUBLIC
BEGIN:VTIMEZONE
TZID:Europe/London
LAST-MODIFIED:20260306T231828Z
TZURL:https://www.tzurl.org/zoneinfo-outlook/Europe/London
X-LIC-LOCATION:Europe/London
BEGIN:DAYLIGHT
TZNAME:BST
TZOFFSETFROM:+0000
TZOFFSETTO:+0100
DTSTART:19700329T010000
RRULE:FREQ=YEARLY;BYMONTH=3;BYDAY=-1SU
END:DAYLIGHT
BEGIN:STANDARD
TZNAME:GMT
TZOFFSETFROM:+0100
TZOFFSETTO:+0000
DTSTART:19701025T020000
RRULE:FREQ=YEARLY;BYMONTH=10;BYDAY=-1SU
END:STANDARD
END:VTIMEZONE
BEGIN:VEVENT
DTSTART;TZID=Europe/London:20250905T110000
DTEND;TZID=Europe/London:20250905T183000
DTSTAMP:20260423T122215Z
UID:{0AAA8081-1B81-49C1-836046F0030C108D}
LOCATION:Scotland
SUMMARY:NFRC Scotland Golf Outing 2025
DESCRIPTION:The annual NFRC Scotland Golf Outing takes place at Kirkintilloch Golf Club on 5 September 2025.\n
 \n
 Event details: https://www.nfrc.co.uk/events/ems-event-calendar/nfrc-scotland-golf-outing-2025.html
PRIORITY:1
END:VEVENT
END:VCALENDAR