BEGIN:VCALENDAR
PRODID:-//Pixl8//Eventfolio//EN
VERSION:2.0
X-WR-TIMEZONE:Europe/London
CALSCALE:GREGORIAN
METHOD:PUBLISH
CLASS:PUBLIC
BEGIN:VTIMEZONE
TZID:Europe/London
LAST-MODIFIED:20260306T231828Z
TZURL:https://www.tzurl.org/zoneinfo-outlook/Europe/London
X-LIC-LOCATION:Europe/London
BEGIN:DAYLIGHT
TZNAME:BST
TZOFFSETFROM:+0000
TZOFFSETTO:+0100
DTSTART:19700329T010000
RRULE:FREQ=YEARLY;BYMONTH=3;BYDAY=-1SU
END:DAYLIGHT
BEGIN:STANDARD
TZNAME:GMT
TZOFFSETFROM:+0100
TZOFFSETTO:+0000
DTSTART:19701025T020000
RRULE:FREQ=YEARLY;BYMONTH=10;BYDAY=-1SU
END:STANDARD
END:VTIMEZONE
BEGIN:VEVENT
DTSTART;TZID=Europe/London;VALUE=DATE:20250619
DTEND;TZID=Europe/London;VALUE=DATE:20250623
DTSTAMP:20260423T193931Z
UID:{B7F21B31-0A53-44CC-86CFC2FECFF7A325}
LOCATION:Scotland
SUMMARY:NFRC Scotland Skills Demo–Royal Highland Show 2025
DESCRIPTION:Following a series of successful events, we return to the Royal Highland Show, Edinburgh continue to deliver Traditional Skills Demonstrations.\n
 \n
 Event details: https://www.nfrc.co.uk/events/ems-event-calendar/nfrc-scotland-skills-demo-royal-highland-show-2025.html
PRIORITY:1
END:VEVENT
END:VCALENDAR