BEGIN:VCALENDAR
PRODID:-//Pixl8//Eventfolio//EN
VERSION:2.0
X-WR-TIMEZONE:Europe/London
CALSCALE:GREGORIAN
METHOD:PUBLISH
CLASS:PUBLIC
BEGIN:VTIMEZONE
TZID:Europe/London
LAST-MODIFIED:20260306T231828Z
TZURL:https://www.tzurl.org/zoneinfo-outlook/Europe/London
X-LIC-LOCATION:Europe/London
BEGIN:DAYLIGHT
TZNAME:BST
TZOFFSETFROM:+0000
TZOFFSETTO:+0100
DTSTART:19700329T010000
RRULE:FREQ=YEARLY;BYMONTH=3;BYDAY=-1SU
END:DAYLIGHT
BEGIN:STANDARD
TZNAME:GMT
TZOFFSETFROM:+0100
TZOFFSETTO:+0000
DTSTART:19701025T020000
RRULE:FREQ=YEARLY;BYMONTH=10;BYDAY=-1SU
END:STANDARD
END:VTIMEZONE
BEGIN:VEVENT
DTSTART;TZID=Europe/London;VALUE=DATE:20250929
DTEND;TZID=Europe/London;VALUE=DATE:20250930
DTSTAMP:20260423T122331Z
UID:{5C37F949-620B-44F1-9B57B3FE590A3329}
LOCATION:Down Royal Racecourse
SUMMARY:Northern Ireland Region AGM & Race Day
DESCRIPTION:NFRC invites its Northern Ireland region a Region AGM & Race Day at Down Royal Racecourse on 29 September 2025.\n
 \n
 Event details: https://www.nfrc.co.uk/events/ems-event-calendar/northern-ireland-region-agm-race-day.html
PRIORITY:1
END:VEVENT
END:VCALENDAR