BEGIN:VCALENDAR
PRODID:-//Pixl8//Eventfolio//EN
VERSION:2.0
X-WR-TIMEZONE:Europe/London
CALSCALE:GREGORIAN
METHOD:PUBLISH
CLASS:PUBLIC
BEGIN:VTIMEZONE
TZID:Europe/London
LAST-MODIFIED:20260306T231828Z
TZURL:https://www.tzurl.org/zoneinfo-outlook/Europe/London
X-LIC-LOCATION:Europe/London
BEGIN:DAYLIGHT
TZNAME:BST
TZOFFSETFROM:+0000
TZOFFSETTO:+0100
DTSTART:19700329T010000
RRULE:FREQ=YEARLY;BYMONTH=3;BYDAY=-1SU
END:DAYLIGHT
BEGIN:STANDARD
TZNAME:GMT
TZOFFSETFROM:+0100
TZOFFSETTO:+0000
DTSTART:19701025T020000
RRULE:FREQ=YEARLY;BYMONTH=10;BYDAY=-1SU
END:STANDARD
END:VTIMEZONE
BEGIN:VEVENT
DTSTART;TZID=Europe/London;VALUE=DATE:20250827
DTEND;TZID=Europe/London;VALUE=DATE:20250828
DTSTAMP:20260423T152530Z
UID:{2B66BBB4-DA12-4518-8131F0D6FBE8D8CF}
LOCATION:Midlands
SUMMARY:Scotland Committee Meeting–August 2025
DESCRIPTION:Scotland Members are invited to send their questions or concerns to be raised at the regional committee meeting.\n
 \n
 Event details: https://www.nfrc.co.uk/events/ems-event-calendar/scotland-committee-meeting-august-2025.html
PRIORITY:1
END:VEVENT
END:VCALENDAR