BEGIN:VCALENDAR
PRODID:-//Pixl8//Eventfolio//EN
VERSION:2.0
X-WR-TIMEZONE:Europe/London
CALSCALE:GREGORIAN
METHOD:PUBLISH
CLASS:PUBLIC
BEGIN:VTIMEZONE
TZID:Europe/London
LAST-MODIFIED:20260306T231828Z
TZURL:https://www.tzurl.org/zoneinfo-outlook/Europe/London
X-LIC-LOCATION:Europe/London
BEGIN:DAYLIGHT
TZNAME:BST
TZOFFSETFROM:+0000
TZOFFSETTO:+0100
DTSTART:19700329T010000
RRULE:FREQ=YEARLY;BYMONTH=3;BYDAY=-1SU
END:DAYLIGHT
BEGIN:STANDARD
TZNAME:GMT
TZOFFSETFROM:+0100
TZOFFSETTO:+0000
DTSTART:19701025T020000
RRULE:FREQ=YEARLY;BYMONTH=10;BYDAY=-1SU
END:STANDARD
END:VTIMEZONE
BEGIN:VEVENT
DTSTART;TZID=Europe/London;VALUE=DATE:20250610
DTEND;TZID=Europe/London;VALUE=DATE:20250611
DTSTAMP:20260423T130835Z
UID:{FEC251EE-55A9-4523-9A804177FF24258C}
LOCATION:Scotland
SUMMARY:Skills Demo–Berwickshire High School
DESCRIPTION:NFRC Scotland will host a  roof slating skills demonstration at Berwickshire High School.\n
 \n
 Event details: https://www.nfrc.co.uk/events/ems-event-calendar/skills-demo-berwickshire-high-school.html
PRIORITY:1
END:VEVENT
END:VCALENDAR