BEGIN:VCALENDAR
PRODID:-//Pixl8//Eventfolio//EN
VERSION:2.0
X-WR-TIMEZONE:Europe/London
CALSCALE:GREGORIAN
METHOD:PUBLISH
CLASS:PUBLIC
BEGIN:VTIMEZONE
TZID:Europe/London
LAST-MODIFIED:20260306T231828Z
TZURL:https://www.tzurl.org/zoneinfo-outlook/Europe/London
X-LIC-LOCATION:Europe/London
BEGIN:DAYLIGHT
TZNAME:BST
TZOFFSETFROM:+0000
TZOFFSETTO:+0100
DTSTART:19700329T010000
RRULE:FREQ=YEARLY;BYMONTH=3;BYDAY=-1SU
END:DAYLIGHT
BEGIN:STANDARD
TZNAME:GMT
TZOFFSETFROM:+0100
TZOFFSETTO:+0000
DTSTART:19701025T020000
RRULE:FREQ=YEARLY;BYMONTH=10;BYDAY=-1SU
END:STANDARD
END:VTIMEZONE
BEGIN:VEVENT
DTSTART;TZID=Europe/London;VALUE=DATE:20250519
DTEND;TZID=Europe/London;VALUE=DATE:20250520
DTSTAMP:20260423T193953Z
UID:{A1B2CA5B-4B6F-4DB8-943126EFD928A9CA}
LOCATION:Scotland
SUMMARY:Skills Demo–Peebles High School
DESCRIPTION:NFRC Scotland will host a  roof slating skills demonstration at Peebles High School.\n
 \n
 Event details: https://www.nfrc.co.uk/events/ems-event-calendar/skills-demo-peebles-high-school.html
PRIORITY:1
END:VEVENT
END:VCALENDAR