BEGIN:VCALENDAR
PRODID:-//Pixl8//Eventfolio//EN
VERSION:2.0
X-WR-TIMEZONE:Europe/London
CALSCALE:GREGORIAN
METHOD:PUBLISH
CLASS:PUBLIC
BEGIN:VTIMEZONE
TZID:Europe/London
LAST-MODIFIED:20260306T231828Z
TZURL:https://www.tzurl.org/zoneinfo-outlook/Europe/London
X-LIC-LOCATION:Europe/London
BEGIN:DAYLIGHT
TZNAME:BST
TZOFFSETFROM:+0000
TZOFFSETTO:+0100
DTSTART:19700329T010000
RRULE:FREQ=YEARLY;BYMONTH=3;BYDAY=-1SU
END:DAYLIGHT
BEGIN:STANDARD
TZNAME:GMT
TZOFFSETFROM:+0100
TZOFFSETTO:+0000
DTSTART:19701025T020000
RRULE:FREQ=YEARLY;BYMONTH=10;BYDAY=-1SU
END:STANDARD
END:VTIMEZONE
BEGIN:VEVENT
DTSTART;TZID=Europe/London;VALUE=DATE:20250509
DTEND;TZID=Europe/London;VALUE=DATE:20250511
DTSTAMP:20260423T130722Z
UID:{6199F42F-AD03-4CB7-8F7DA91979B1371E}
LOCATION:Scotland
SUMMARY:Skills Demo–STEM at The Helix
DESCRIPTION:NFRC Scotland will host a roof slating and single ply skills demonstration at STEM at The Helix.\n
 \n
 Event details: https://www.nfrc.co.uk/events/ems-event-calendar/skills-demo-stem-at-the-helix.html
PRIORITY:1
END:VEVENT
END:VCALENDAR