BEGIN:VCALENDAR
PRODID:-//Pixl8//Eventfolio//EN
VERSION:2.0
X-WR-TIMEZONE:Europe/London
CALSCALE:GREGORIAN
METHOD:PUBLISH
CLASS:PUBLIC
BEGIN:VTIMEZONE
TZID:Europe/London
LAST-MODIFIED:20260306T231828Z
TZURL:https://www.tzurl.org/zoneinfo-outlook/Europe/London
X-LIC-LOCATION:Europe/London
BEGIN:DAYLIGHT
TZNAME:BST
TZOFFSETFROM:+0000
TZOFFSETTO:+0100
DTSTART:19700329T010000
RRULE:FREQ=YEARLY;BYMONTH=3;BYDAY=-1SU
END:DAYLIGHT
BEGIN:STANDARD
TZNAME:GMT
TZOFFSETFROM:+0100
TZOFFSETTO:+0000
DTSTART:19701025T020000
RRULE:FREQ=YEARLY;BYMONTH=10;BYDAY=-1SU
END:STANDARD
END:VTIMEZONE
BEGIN:VEVENT
DTSTART;TZID=Europe/London:20250925T140000
DTEND;TZID=Europe/London:20250925T150000
DTSTAMP:20260423T194101Z
UID:{96F14E62-480B-4ECD-8B591153D968D72C}
LOCATION:
SUMMARY:Skills Forum – Speak Up on the Challenges Facing Roofing Recruitment 
DESCRIPTION:Join NFRC’s online skills forum on Thursday 25 September (14:00–15:00) – powered by the AI platform, Natter – and help shape how our industry tackles one of its biggest challenges: the workforce crisis.\n
 \n
 Event details: https://www.nfrc.co.uk/events/ems-event-calendar/skills-forum-speak-up-on-the-challenges-facing-roofing-recruitment.html
PRIORITY:1
END:VEVENT
END:VCALENDAR