BEGIN:VCALENDAR
PRODID:-//Pixl8//Eventfolio//EN
VERSION:2.0
X-WR-TIMEZONE:Europe/London
CALSCALE:GREGORIAN
METHOD:PUBLISH
CLASS:PUBLIC
BEGIN:VTIMEZONE
TZID:Europe/London
LAST-MODIFIED:20260306T231828Z
TZURL:https://www.tzurl.org/zoneinfo-outlook/Europe/London
X-LIC-LOCATION:Europe/London
BEGIN:DAYLIGHT
TZNAME:BST
TZOFFSETFROM:+0000
TZOFFSETTO:+0100
DTSTART:19700329T010000
RRULE:FREQ=YEARLY;BYMONTH=3;BYDAY=-1SU
END:DAYLIGHT
BEGIN:STANDARD
TZNAME:GMT
TZOFFSETFROM:+0100
TZOFFSETTO:+0000
DTSTART:19701025T020000
RRULE:FREQ=YEARLY;BYMONTH=10;BYDAY=-1SU
END:STANDARD
END:VTIMEZONE
BEGIN:VEVENT
DTSTART;TZID=Europe/London:20250703T100000
DTEND;TZID=Europe/London:20250703T130000
DTSTAMP:20260423T194044Z
UID:{6B0235B4-DEFE-4BF3-B23F15A239A78CB4}
LOCATION:
SUMMARY:Slating and Tiling Committee meeting-July 2025
DESCRIPTION:Members are encouraged to submit their questions or concerns to be discussed at the committee meeting.\n
 \n
 Event details: https://www.nfrc.co.uk/events/ems-event-calendar/slating-and-tiling-committee-meeting-july-2025.html
PRIORITY:1
END:VEVENT
END:VCALENDAR