BEGIN:VCALENDAR
PRODID:-//Pixl8//Eventfolio//EN
VERSION:2.0
X-WR-TIMEZONE:Europe/London
CALSCALE:GREGORIAN
METHOD:PUBLISH
CLASS:PUBLIC
BEGIN:VTIMEZONE
TZID:Europe/London
LAST-MODIFIED:20260306T231828Z
TZURL:https://www.tzurl.org/zoneinfo-outlook/Europe/London
X-LIC-LOCATION:Europe/London
BEGIN:DAYLIGHT
TZNAME:BST
TZOFFSETFROM:+0000
TZOFFSETTO:+0100
DTSTART:19700329T010000
RRULE:FREQ=YEARLY;BYMONTH=3;BYDAY=-1SU
END:DAYLIGHT
BEGIN:STANDARD
TZNAME:GMT
TZOFFSETFROM:+0100
TZOFFSETTO:+0000
DTSTART:19701025T020000
RRULE:FREQ=YEARLY;BYMONTH=10;BYDAY=-1SU
END:STANDARD
END:VTIMEZONE
BEGIN:VEVENT
DTSTART;TZID=Europe/London:20250304T090000
DTEND;TZID=Europe/London:20250305T170000
DTSTAMP:20260423T110501Z
UID:{032CA3D5-2B5C-4243-98415249DFE82E85}
LOCATION:Scotland
SUMMARY:The National Apprenticeship Show 2025–Scotland 
DESCRIPTION:NFRC Scotland is delighted to participate in the The National Apprenticeship Show at SECC Hydro, Glasgow where we will deliver skills demonstrations in roof slating.\n
 \n
 Event details: https://www.nfrc.co.uk/events/ems-event-calendar/the-national-apprenticeship-show-2025-scotland.html
PRIORITY:1
END:VEVENT
END:VCALENDAR