BEGIN:VCALENDAR
PRODID:-//Pixl8//Eventfolio//EN
VERSION:2.0
X-WR-TIMEZONE:Europe/London
CALSCALE:GREGORIAN
METHOD:PUBLISH
CLASS:PUBLIC
BEGIN:VTIMEZONE
TZID:Europe/London
LAST-MODIFIED:20260306T231828Z
TZURL:https://www.tzurl.org/zoneinfo-outlook/Europe/London
X-LIC-LOCATION:Europe/London
BEGIN:DAYLIGHT
TZNAME:BST
TZOFFSETFROM:+0000
TZOFFSETTO:+0100
DTSTART:19700329T010000
RRULE:FREQ=YEARLY;BYMONTH=3;BYDAY=-1SU
END:DAYLIGHT
BEGIN:STANDARD
TZNAME:GMT
TZOFFSETFROM:+0100
TZOFFSETTO:+0000
DTSTART:19701025T020000
RRULE:FREQ=YEARLY;BYMONTH=10;BYDAY=-1SU
END:STANDARD
END:VTIMEZONE
BEGIN:VEVENT
DTSTART;TZID=Europe/London;VALUE=DATE:20250520
DTEND;TZID=Europe/London;VALUE=DATE:20250521
DTSTAMP:20260423T121709Z
UID:{99D94BB6-6EAC-42E6-A06165599F462EFF}
LOCATION:Scotland
SUMMARY:Traditional Skills Festival, Tyncastle Park–May 2025
DESCRIPTION:NFRC Scotland will host a traditional skills event at Tyncastle Park, home of Heart of Midlothian Football Club.\n
 \n
 Event details: https://www.nfrc.co.uk/events/ems-event-calendar/traditional-skills-festival-tyncastle-park-may-2025.html
PRIORITY:1
END:VEVENT
END:VCALENDAR