BEGIN:VCALENDAR
PRODID:-//Pixl8//Eventfolio//EN
VERSION:2.0
X-WR-TIMEZONE:Europe/London
CALSCALE:GREGORIAN
METHOD:PUBLISH
CLASS:PUBLIC
BEGIN:VTIMEZONE
TZID:Europe/London
LAST-MODIFIED:20260306T231828Z
TZURL:https://www.tzurl.org/zoneinfo-outlook/Europe/London
X-LIC-LOCATION:Europe/London
BEGIN:DAYLIGHT
TZNAME:BST
TZOFFSETFROM:+0000
TZOFFSETTO:+0100
DTSTART:19700329T010000
RRULE:FREQ=YEARLY;BYMONTH=3;BYDAY=-1SU
END:DAYLIGHT
BEGIN:STANDARD
TZNAME:GMT
TZOFFSETFROM:+0100
TZOFFSETTO:+0000
DTSTART:19701025T020000
RRULE:FREQ=YEARLY;BYMONTH=10;BYDAY=-1SU
END:STANDARD
END:VTIMEZONE
BEGIN:VEVENT
DTSTART;TZID=Europe/London;VALUE=DATE:20250930
DTEND;TZID=Europe/London;VALUE=DATE:20251003
DTSTAMP:20260423T130225Z
UID:{4E18BA53-81A3-4F60-BB233CA2828CB4F2}
LOCATION:
SUMMARY:UK Construction Week 2025–Birmingham
DESCRIPTION:Celebrate 10 Years of Innovation at UK Construction Week Birmingham 2025 30 September – 2 October 2025 | NEC Birmingham\n
 \n
 Event details: https://www.nfrc.co.uk/events/ems-event-calendar/uk-construction-week-2025-birmingham.html
PRIORITY:1
END:VEVENT
END:VCALENDAR