BEGIN:VCALENDAR
PRODID:-//Pixl8//Eventfolio//EN
VERSION:2.0
X-WR-TIMEZONE:Europe/London
CALSCALE:GREGORIAN
METHOD:PUBLISH
CLASS:PUBLIC
BEGIN:VTIMEZONE
TZID:Europe/London
LAST-MODIFIED:20260306T231828Z
TZURL:https://www.tzurl.org/zoneinfo-outlook/Europe/London
X-LIC-LOCATION:Europe/London
BEGIN:DAYLIGHT
TZNAME:BST
TZOFFSETFROM:+0000
TZOFFSETTO:+0100
DTSTART:19700329T010000
RRULE:FREQ=YEARLY;BYMONTH=3;BYDAY=-1SU
END:DAYLIGHT
BEGIN:STANDARD
TZNAME:GMT
TZOFFSETFROM:+0100
TZOFFSETTO:+0000
DTSTART:19701025T020000
RRULE:FREQ=YEARLY;BYMONTH=10;BYDAY=-1SU
END:STANDARD
END:VTIMEZONE
BEGIN:VEVENT
DTSTART;TZID=Europe/London:20250509T120000
DTEND;TZID=Europe/London:20250509T200000
DTSTAMP:20260423T130051Z
UID:{0A7F59ED-2353-4CD7-B83EE43831DEF455}
LOCATION:InterContinental London - The O2
SUMMARY:UK Roofing Awards 2025
DESCRIPTION:Tickets are available for the UK Roofing Awards, which will return on 9 May 2025 to celebrate the best of roofing talent across the UK.\n
 \n
 Event details: https://www.nfrc.co.uk/events/ems-event-calendar/uk-roofing-awards-2025.html
PRIORITY:1
END:VEVENT
END:VCALENDAR