BEGIN:VCALENDAR
PRODID:-//Pixl8//Eventfolio//EN
VERSION:2.0
X-WR-TIMEZONE:Europe/London
CALSCALE:GREGORIAN
METHOD:PUBLISH
CLASS:PUBLIC
BEGIN:VTIMEZONE
TZID:Europe/London
LAST-MODIFIED:20260306T231828Z
TZURL:https://www.tzurl.org/zoneinfo-outlook/Europe/London
X-LIC-LOCATION:Europe/London
BEGIN:DAYLIGHT
TZNAME:BST
TZOFFSETFROM:+0000
TZOFFSETTO:+0100
DTSTART:19700329T010000
RRULE:FREQ=YEARLY;BYMONTH=3;BYDAY=-1SU
END:DAYLIGHT
BEGIN:STANDARD
TZNAME:GMT
TZOFFSETFROM:+0100
TZOFFSETTO:+0000
DTSTART:19701025T020000
RRULE:FREQ=YEARLY;BYMONTH=10;BYDAY=-1SU
END:STANDARD
END:VTIMEZONE
BEGIN:VEVENT
DTSTART;TZID=Europe/London:20250717T100000
DTEND;TZID=Europe/London:20250717T170000
DTSTAMP:20260420T100217Z
UID:{65D2D70C-BC0C-4B4A-851D9BA51F8D92B4}
LOCATION:North West / Yorkshire & North East
SUMMARY:'War of the Roses' – North of England Golf Event
DESCRIPTION:North West and Yorkshire & North East Members are invited to a regional golf day at Worsley Park Country Club, Manchester\n
 \n
 Event details: https://www.nfrc.co.uk/events/ems-event-calendar/war-of-the-roses-north-of-england-golf-event.html
PRIORITY:1
END:VEVENT
END:VCALENDAR