BEGIN:VCALENDAR
PRODID:-//Pixl8//Eventfolio//EN
VERSION:2.0
X-WR-TIMEZONE:Europe/London
CALSCALE:GREGORIAN
METHOD:PUBLISH
CLASS:PUBLIC
BEGIN:VTIMEZONE
TZID:Europe/London
LAST-MODIFIED:20260306T231828Z
TZURL:https://www.tzurl.org/zoneinfo-outlook/Europe/London
X-LIC-LOCATION:Europe/London
BEGIN:DAYLIGHT
TZNAME:BST
TZOFFSETFROM:+0000
TZOFFSETTO:+0100
DTSTART:19700329T010000
RRULE:FREQ=YEARLY;BYMONTH=3;BYDAY=-1SU
END:DAYLIGHT
BEGIN:STANDARD
TZNAME:GMT
TZOFFSETFROM:+0100
TZOFFSETTO:+0000
DTSTART:19701025T020000
RRULE:FREQ=YEARLY;BYMONTH=10;BYDAY=-1SU
END:STANDARD
END:VTIMEZONE
BEGIN:VEVENT
DTSTART;TZID=Europe/London:20251007T103000
DTEND;TZID=Europe/London:20251007T143000
DTSTAMP:20260423T174821Z
UID:{BD3159A2-082E-4C49-B36952DB02DDEDDA}
LOCATION:YNE
SUMMARY:Yorkshire and Northeast Technical Event
DESCRIPTION:Join fellow NFRC members in the Yorkshire and North East for a day of technical updates,  and networking opportunities.\n
 \n
 Event details: https://www.nfrc.co.uk/events/ems-event-calendar/yorkshire-and-northeast-technical-event.html
PRIORITY:1
END:VEVENT
END:VCALENDAR