BEGIN:VCALENDAR
PRODID:-//Pixl8//Eventfolio//EN
VERSION:2.0
X-WR-TIMEZONE:Europe/London
CALSCALE:GREGORIAN
METHOD:PUBLISH
CLASS:PUBLIC
BEGIN:VTIMEZONE
TZID:Europe/London
LAST-MODIFIED:20260306T231828Z
TZURL:https://www.tzurl.org/zoneinfo-outlook/Europe/London
X-LIC-LOCATION:Europe/London
BEGIN:DAYLIGHT
TZNAME:BST
TZOFFSETFROM:+0000
TZOFFSETTO:+0100
DTSTART:19700329T010000
RRULE:FREQ=YEARLY;BYMONTH=3;BYDAY=-1SU
END:DAYLIGHT
BEGIN:STANDARD
TZNAME:GMT
TZOFFSETFROM:+0100
TZOFFSETTO:+0000
DTSTART:19701025T020000
RRULE:FREQ=YEARLY;BYMONTH=10;BYDAY=-1SU
END:STANDARD
END:VTIMEZONE
BEGIN:VEVENT
DTSTART;TZID=Europe/London;VALUE=DATE:20250725
DTEND;TZID=Europe/London;VALUE=DATE:20250726
DTSTAMP:20260423T131202Z
UID:{847ABCAC-EC1F-4138-B20AD33D4D0F50F7}
LOCATION:Yorkshire & North East
SUMMARY:Yorkshire & North East Annual Members Day–Thirsk Racecourse SOLD OUT
DESCRIPTION:Yorkshire & North East Members are invited to their annual member event at Thirsk Racecourse.\n
 \n
 Event details: https://www.nfrc.co.uk/events/ems-event-calendar/yorkshire-north-east-annual-members-day-thirsk-racecourse-sold-out.html
PRIORITY:1
END:VEVENT
END:VCALENDAR