BEGIN:VCALENDAR
PRODID:-//Pixl8//Eventfolio//EN
VERSION:2.0
X-WR-TIMEZONE:Europe/London
CALSCALE:GREGORIAN
METHOD:PUBLISH
CLASS:PUBLIC
BEGIN:VTIMEZONE
TZID:Europe/London
LAST-MODIFIED:20260306T231828Z
TZURL:https://www.tzurl.org/zoneinfo-outlook/Europe/London
X-LIC-LOCATION:Europe/London
BEGIN:DAYLIGHT
TZNAME:BST
TZOFFSETFROM:+0000
TZOFFSETTO:+0100
DTSTART:19700329T010000
RRULE:FREQ=YEARLY;BYMONTH=3;BYDAY=-1SU
END:DAYLIGHT
BEGIN:STANDARD
TZNAME:GMT
TZOFFSETFROM:+0100
TZOFFSETTO:+0000
DTSTART:19701025T020000
RRULE:FREQ=YEARLY;BYMONTH=10;BYDAY=-1SU
END:STANDARD
END:VTIMEZONE
BEGIN:VEVENT
DTSTART;TZID=Europe/London;VALUE=DATE:20250619
DTEND;TZID=Europe/London;VALUE=DATE:20250620
DTSTAMP:20260425T130211Z
UID:{7988F499-CE22-48CE-8C8069BDA2322E74}
LOCATION:Yorkshire & North East
SUMMARY:Yorkshire & North East Regional clay pigeon shoot–Northallerton
DESCRIPTION:Y&NE Members are invited to clay pigeon shooting at Thimbleby Shooting Ground–suitable for all abilities!\n
 \n
 Event details: https://www.nfrc.co.uk/events/ems-event-calendar/yorkshire-north-east-regional-clay-pigeon-shoot-northallerton.html
PRIORITY:1
END:VEVENT
END:VCALENDAR