BEGIN:VCALENDAR
PRODID:-//Pixl8//Eventfolio//EN
VERSION:2.0
X-WR-TIMEZONE:Europe/London
CALSCALE:GREGORIAN
METHOD:PUBLISH
CLASS:PUBLIC
BEGIN:VTIMEZONE
TZID:Europe/London
LAST-MODIFIED:20260306T231828Z
TZURL:https://www.tzurl.org/zoneinfo-outlook/Europe/London
X-LIC-LOCATION:Europe/London
BEGIN:DAYLIGHT
TZNAME:BST
TZOFFSETFROM:+0000
TZOFFSETTO:+0100
DTSTART:19700329T010000
RRULE:FREQ=YEARLY;BYMONTH=3;BYDAY=-1SU
END:DAYLIGHT
BEGIN:STANDARD
TZNAME:GMT
TZOFFSETFROM:+0100
TZOFFSETTO:+0000
DTSTART:19701025T020000
RRULE:FREQ=YEARLY;BYMONTH=10;BYDAY=-1SU
END:STANDARD
END:VTIMEZONE
BEGIN:VEVENT
DTSTART;TZID=Europe/London:20241108T090000
DTEND;TZID=Europe/London:20241108T000000
DTSTAMP:20260423T181933Z
UID:{07B587EB-F1C2-4C2A-868587F9BC668152}
LOCATION:Lindeth Howe Country House Hotel
SUMMARY:Yorkshire & North East Social Weekend
DESCRIPTION:Yorkshire & North East Members are invited to the annual Regional Weekend at the Lindeth Howe Country House Hotel.\n
 \n
 Event details: https://www.nfrc.co.uk/events/ems-event-calendar/yorkshire-north-east-social-weekend.html
PRIORITY:1
END:VEVENT
END:VCALENDAR